BEGIN:VCALENDAR
VERSION:2.0
PRODID:-//Mairie d&#039;Argentré - ECPv6.15.15//NONSGML v1.0//EN
CALSCALE:GREGORIAN
METHOD:PUBLISH
X-ORIGINAL-URL:https://www.argentre.fr
X-WR-CALDESC:Évènements pour Mairie d&#039;Argentré
REFRESH-INTERVAL;VALUE=DURATION:PT1H
X-Robots-Tag:noindex
X-PUBLISHED-TTL:PT1H
BEGIN:VTIMEZONE
TZID:Europe/Paris
BEGIN:DAYLIGHT
TZOFFSETFROM:+0100
TZOFFSETTO:+0200
TZNAME:CEST
DTSTART:20250330T010000
END:DAYLIGHT
BEGIN:STANDARD
TZOFFSETFROM:+0200
TZOFFSETTO:+0100
TZNAME:CET
DTSTART:20251026T010000
END:STANDARD
BEGIN:DAYLIGHT
TZOFFSETFROM:+0100
TZOFFSETTO:+0200
TZNAME:CEST
DTSTART:20260329T010000
END:DAYLIGHT
BEGIN:STANDARD
TZOFFSETFROM:+0200
TZOFFSETTO:+0100
TZNAME:CET
DTSTART:20261025T010000
END:STANDARD
BEGIN:DAYLIGHT
TZOFFSETFROM:+0100
TZOFFSETTO:+0200
TZNAME:CEST
DTSTART:20270328T010000
END:DAYLIGHT
BEGIN:STANDARD
TZOFFSETFROM:+0200
TZOFFSETTO:+0100
TZNAME:CET
DTSTART:20271031T010000
END:STANDARD
END:VTIMEZONE
BEGIN:VEVENT
DTSTART;TZID=Europe/Paris:20260320T180000
DTEND;TZID=Europe/Paris:20260320T200000
DTSTAMP:20260421T011236
CREATED:20260306T120003Z
LAST-MODIFIED:20260306T120019Z
UID:10000372-1774029600-1774036800@www.argentre.fr
SUMMARY:Portes ouvertes Ecole publique d'Argentré\, maternelle et élémentaire
DESCRIPTION:Soirée portes ouvertesVendredi 20 mars 2026 de 18h à 20hEcole publique d’Argentré\, maternelle et élémentaire.
URL:https://www.argentre.fr/evenement/portes-ouvertes-ecole-publique-dargentre-maternelle-et-elementaire/
LOCATION:Ecole les Dauphins
CATEGORIES:Public
ATTACH;FMTTYPE=image/jpeg:https://www.argentre.fr/wp-content/uploads/Capture-17.jpg
END:VEVENT
BEGIN:VEVENT
DTSTART;TZID=Europe/Paris:20260321T100000
DTEND;TZID=Europe/Paris:20260321T113000
DTSTAMP:20260421T011236
CREATED:20260306T142404Z
LAST-MODIFIED:20260306T142404Z
UID:10000373-1774087200-1774092600@www.argentre.fr
SUMMARY:Portes ouvertes école privé
DESCRIPTION:Portes ouvertes\n\n\nEcole St Cyr\nSte Julitte\n\n\nSamedi 21 mars\n10h à 12h
URL:https://www.argentre.fr/evenement/portes-ouvertes-ecole-prive/
LOCATION:Ecole St Cyr Ste Julitte\, Route de Louvigné\, Argentré\, 53210\, France
CATEGORIES:Public
ATTACH;FMTTYPE=image/png:https://www.argentre.fr/wp-content/uploads/Affiche-PO-mars-26.png
END:VEVENT
BEGIN:VEVENT
DTSTART;TZID=Europe/Paris:20260325T100000
DTEND;TZID=Europe/Paris:20260325T120000
DTSTAMP:20260421T011236
CREATED:20260220T095639Z
LAST-MODIFIED:20260220T112705Z
UID:10000369-1774432800-1774440000@www.argentre.fr
SUMMARY:Atelier scientifique
DESCRIPTION:Mercredi 25 mars\, 10h à la bibliothèque. Atelier scientifique sur le thème du son. A partir de 8 ans sur inscription.
URL:https://www.argentre.fr/evenement/atelier-scientifique/
LOCATION:Bibliothèque Municipale\, Pôle de la Vallée - Rue des sports\, Argentré\, 53210\, France
CATEGORIES:Public
ATTACH;FMTTYPE=image/png:https://www.argentre.fr/wp-content/uploads/logo-bib.png
GEO:48.081653521007;-0.63958553147312
X-APPLE-STRUCTURED-LOCATION;VALUE=URI;X-ADDRESS=Bibliothèque Municipale Pôle de la Vallée - Rue des sports Argentré 53210 France;X-APPLE-RADIUS=500;X-TITLE=Pôle de la Vallée - Rue des sports:geo:-0.63958553147312,48.081653521007
END:VEVENT
BEGIN:VEVENT
DTSTART;TZID=Europe/Paris:20260327T120000
DTEND;TZID=Europe/Paris:20260327T133000
DTSTAMP:20260421T011236
CREATED:20260305T081357Z
LAST-MODIFIED:20260305T081436Z
UID:10000371-1774612800-1774618200@www.argentre.fr
SUMMARY:Bol de riz
DESCRIPTION:Opération bol de riz \nVendredi 27 mars 2026 à 12h \nà l’Escapade \n4€/ enfant – 5€/adulte \n  \nPour aider deux écoles sénégalaises grâce à l’association Teranga 53 \nInformations et inscriptions avant le vendredi 13 mars : st-cyr.ste-julitte@wanadoo.fr \n 
URL:https://www.argentre.fr/evenement/bol-de-riz/
LOCATION:L’Escapade
CATEGORIES:Public
ATTACH;FMTTYPE=image/jpeg:https://www.argentre.fr/wp-content/uploads/Scan20260305090430_001.jpg
END:VEVENT
END:VCALENDAR