BEGIN:VCALENDAR
VERSION:2.0
PRODID:-//Mairie d&#039;Argentré - ECPv6.15.15//NONSGML v1.0//EN
CALSCALE:GREGORIAN
METHOD:PUBLISH
X-ORIGINAL-URL:https://www.argentre.fr
X-WR-CALDESC:Évènements pour Mairie d&#039;Argentré
REFRESH-INTERVAL;VALUE=DURATION:PT1H
X-Robots-Tag:noindex
X-PUBLISHED-TTL:PT1H
BEGIN:VTIMEZONE
TZID:Europe/Paris
BEGIN:DAYLIGHT
TZOFFSETFROM:+0100
TZOFFSETTO:+0200
TZNAME:CEST
DTSTART:20250330T010000
END:DAYLIGHT
BEGIN:STANDARD
TZOFFSETFROM:+0200
TZOFFSETTO:+0100
TZNAME:CET
DTSTART:20251026T010000
END:STANDARD
BEGIN:DAYLIGHT
TZOFFSETFROM:+0100
TZOFFSETTO:+0200
TZNAME:CEST
DTSTART:20260329T010000
END:DAYLIGHT
BEGIN:STANDARD
TZOFFSETFROM:+0200
TZOFFSETTO:+0100
TZNAME:CET
DTSTART:20261025T010000
END:STANDARD
BEGIN:DAYLIGHT
TZOFFSETFROM:+0100
TZOFFSETTO:+0200
TZNAME:CEST
DTSTART:20270328T010000
END:DAYLIGHT
BEGIN:STANDARD
TZOFFSETFROM:+0200
TZOFFSETTO:+0100
TZNAME:CET
DTSTART:20271031T010000
END:STANDARD
END:VTIMEZONE
BEGIN:VEVENT
DTSTART;TZID=Europe/Paris:20260411T133000
DTEND;TZID=Europe/Paris:20260411T173000
DTSTAMP:20260421T011749
CREATED:20260401T162951Z
LAST-MODIFIED:20260401T163643Z
UID:10000376-1775914200-1775928600@www.argentre.fr
SUMMARY:Initiation au DJing
DESCRIPTION:samedi 11 avril à la bibliothèque : à partir de 13h30 : atelier sur inscription à partir de 13 ans. Ados et Adultes \npuis à 16h30 : concert ouvert à tous \nRenseignements et inscriptions : 02.72.95.12.01 / biblio@argentre.fr
URL:https://www.argentre.fr/evenement/initiation-au-djing/
LOCATION:Bibliothèque Municipale\, Pôle de la Vallée - Rue des sports\, Argentré\, 53210\, France
CATEGORIES:Public
ATTACH;FMTTYPE=image/png:https://www.argentre.fr/wp-content/uploads/logo-bib.png
ORGANIZER;CN="Biblioth%C3%A8que Municipale":MAILTO:biblio@argentre.fr
GEO:48.081653521007;-0.63958553147312
X-APPLE-STRUCTURED-LOCATION;VALUE=URI;X-ADDRESS=Bibliothèque Municipale Pôle de la Vallée - Rue des sports Argentré 53210 France;X-APPLE-RADIUS=500;X-TITLE=Pôle de la Vallée - Rue des sports:geo:-0.63958553147312,48.081653521007
END:VEVENT
END:VCALENDAR